BEGIN:VCALENDAR
VERSION:2.0
PRODID:-//hacksw/handcal//NONSGML v1.0//EN
BEGIN:VEVENT
SUMMARY:Week End Archerie !!! COMPLET !!!
UID:e4994db2-1b85-4974-96a8-c75a6ad7694b
DTSTART:20260611T220000Z
DTEND:20260614T220000Z
LOCATION:Localisation   
CATEGORIES:Festif
STATUS:
DESCRIPTION:<p><span style="color:#c0392b;"><strong>!!! COMPLET
 !!!</strong></span></p>
 
 <p>Traditionnel Week End Archerie de la
 Compagnie</p>
 
 <p>Du tir, du fun, et de bons moments de
 camaraderie!</p>
 
 <p>Au programme, du tir a l'arc entrecoupe de
 moments festifs... ou bien l'inverse, je ne sais plus trop, mais en
 tout cas, enormement de rigolade en bonne compagnie !</p>
 
 <p>Pour
 les details, je vais reprendre ce que j'avais note l'annee
 derniere<span style="font-size:10px;"> (oui, flemme de tout
 reecrire)</span></p>
 
 <ul>
 	<li>Pour le logement, nous vous proposons
 un gite d'une douzaine de place, qui au complet, coutera environ
 <strong>70€ par archer.</strong> Si plus de 12 personnes souhaitent
 s'inscrire, la location d'un second gite de 4 personnes serait
 possible. Si des gens veulent venir en camping car, c'est aussi
 possible, moyennant une participation de 20€.</li>
 	<li>Pour les
 repas, c'est a la bonne franquette, chacun apporte quelques choses
 pour les petits dejeuners, le vendredi soir et le samedi midi. Pour
 le samedi soir, on a pris l'habitude de faire un grand BBQ facon
 auberge espagnole, donc n'oubliez pas d'apporter quelques
 grillades. Concernant le dimanche midi, il en reste toujours
 suffisament pour tout le monde! Pour l'apero, chacun apporte ce qu'il
 veut <span style="font-size:10px;">(surtout si il a des trucs
 bizarres a nous faire decouvrir !)</span></li>
 	<li>Pour le
 transport, le covoiturage c'est le bien ! A chaque voiture de gerer
 l'aspect financier. En esperant que la crise du carburant soit reglee
 d'ici la !</li>
 	<li>Pour le tir a l'arc, le site est a quelques
 minutes du gite, et se nomme Natura L'Arc. Au programme, la
 possibilite de faire 3 parcours differents (3D, nature, campagne).
 Tarif par archer de chaque parcours : entre 10.5 et 12 euros suivant
 le nombre de personnes pour le faire. La compagnie prend a sa charge
 les deux parcours du samedi. Si des gens sont encore suffisamment
 motives <span style="font-size:10px;">(et sans gueule de bois)
 </span>pour en faire un le dimanche matin, celui-ci sera a leur
 charge.</li>
 </ul>
 
 <p>Pour l'organisation, un groupe Whatsapp
 ephemere sera cree pour l'occasion, et celui-ci s'auto-detruira
 quelques temps apres le sejour.</p>
 
 <p>Au programme, du tir en bonne
 compagnie, du bon air, de la bonne bouffe, des moments de franches
 poilades, des chutes dans de la vase, et j'en passe... et bien sur,
 tout ce qui aura lieu sur place, restera sur place! Prevoir
 couvre-chef et creme solaire si c'est comme l'annee derniere
 !</p>
 
 <p>Pour vous inscrire, rien de plus simple, rendez-vous sur la
 page de l'evenement et remplissez le formulaire. Il a a pas mal de
 validation a faire, donc n'oubliez pas d'aller jusqu'au bout
 !</p>
 
 <p>Inscription a effectuer <strong>avant le 5 mai</strong>,
 accompagne d'un acompte de 50€ <em>(non remboursable)</em> / Les
 inscriptions dont on aura recu les acomptes seront les seules prises
 en compte.</p>
 
 <p><br>
 Si vous avez des questions, n'hesitez pas a
 me contacter, et j'essaierais de vous repondre... sinon je vous
 renverrais vers les responsables animations, Claire et Muriel, qui se
 feront une joie de vous repondre .</p>
URL;VALUE=URI:https://www.lesarchersdelabbaye.com/evenements/2026/06/12/week-end-archerie-complet-2270218
END:VEVENT
END:VCALENDAR
